BEGIN:VCALENDAR
VERSION:2.0
PRODID:-//YMCA Whittier - ECPv6.15.12.2//NONSGML v1.0//EN
CALSCALE:GREGORIAN
METHOD:PUBLISH
X-ORIGINAL-URL:https://ymcawhittier.org
X-WR-CALDESC:Events for YMCA Whittier
REFRESH-INTERVAL;VALUE=DURATION:PT1H
X-Robots-Tag:noindex
X-PUBLISHED-TTL:PT1H
BEGIN:VTIMEZONE
TZID:America/Denver
BEGIN:DAYLIGHT
TZOFFSETFROM:-0700
TZOFFSETTO:-0600
TZNAME:MDT
DTSTART:20220313T090000
END:DAYLIGHT
BEGIN:STANDARD
TZOFFSETFROM:-0600
TZOFFSETTO:-0700
TZNAME:MST
DTSTART:20221106T080000
END:STANDARD
BEGIN:DAYLIGHT
TZOFFSETFROM:-0700
TZOFFSETTO:-0600
TZNAME:MDT
DTSTART:20230312T090000
END:DAYLIGHT
BEGIN:STANDARD
TZOFFSETFROM:-0600
TZOFFSETTO:-0700
TZNAME:MST
DTSTART:20231105T080000
END:STANDARD
BEGIN:DAYLIGHT
TZOFFSETFROM:-0700
TZOFFSETTO:-0600
TZNAME:MDT
DTSTART:20240310T090000
END:DAYLIGHT
BEGIN:STANDARD
TZOFFSETFROM:-0600
TZOFFSETTO:-0700
TZNAME:MST
DTSTART:20241103T080000
END:STANDARD
END:VTIMEZONE
BEGIN:VTIMEZONE
TZID:UTC
BEGIN:STANDARD
TZOFFSETFROM:+0000
TZOFFSETTO:+0000
TZNAME:UTC
DTSTART:20190101T000000
END:STANDARD
END:VTIMEZONE
BEGIN:VEVENT
DTSTART;VALUE=DATE:20231201
DTEND;VALUE=DATE:20231202
DTSTAMP:20260421T102051
CREATED:20230819T020521Z
LAST-MODIFIED:20230819T021108Z
UID:5995-1701388800-1701475199@ymcawhittier.org
SUMMARY:Christmas Prayer Breakfast
DESCRIPTION:
URL:https://ymcawhittier.org/event-1/christmas-prayer-breakfast/
END:VEVENT
BEGIN:VEVENT
DTSTART;TZID=UTC:20231014T150000
DTEND;TZID=UTC:20231014T190000
DTSTAMP:20260421T102051
CREATED:20230916T000449Z
LAST-MODIFIED:20230916T000756Z
UID:6032-1697295600-1697310000@ymcawhittier.org
SUMMARY:Pumpkin Plunge
DESCRIPTION:
URL:https://ymcawhittier.org/event-1/pumpkin-plunge/
END:VEVENT
BEGIN:VEVENT
DTSTART;TZID=UTC:20230807T000000
DTEND;TZID=UTC:20231206T233000
DTSTAMP:20260421T102051
CREATED:20230602T153720Z
LAST-MODIFIED:20230602T153720Z
UID:5901-1691366400-1701905400@ymcawhittier.org
SUMMARY:Swim Lessons
DESCRIPTION:Session 8 (8/7-9/2) Registration opens 7/14 \nSession 9 (9/5-9/30) Registration opens 8/21 \nSession 10 (10/2-10/28) Registration opens 9/18 \nSession 11 (10/30-11/18) Registration opens 10/16 \nSession 12 (11/27-12/6) Registration opens 11/10
URL:https://ymcawhittier.org/event-1/swim-lessons/
END:VEVENT
BEGIN:VEVENT
DTSTART;TZID=UTC:20230619T010000
DTEND;TZID=UTC:20230816T233000
DTSTAMP:20260421T102051
CREATED:20230602T153439Z
LAST-MODIFIED:20230602T153439Z
UID:5899-1687136400-1692228600@ymcawhittier.org
SUMMARY:Summer Sports Camp
DESCRIPTION:JUNE 19-23 • Basketball Camp\nJULY 3-7 • Indoor Soccer Camp\nJULY 17-21 •Pickleball Camp\nJULY 31 – AUG. 4 •Volleyball Camp\nAUG. 14-16 • Olympic Style Tournament \nLearn More
URL:https://ymcawhittier.org/event-1/summer-sports-camp/
END:VEVENT
BEGIN:VEVENT
DTSTART;TZID=UTC:20230428T160000
DTEND;TZID=UTC:20230429T120000
DTSTAMP:20260421T102051
CREATED:20230322T213425Z
LAST-MODIFIED:20230322T213557Z
UID:5831-1682697600-1682769600@ymcawhittier.org
SUMMARY:Healthy Kids Day
DESCRIPTION:
URL:https://ymcawhittier.org/event-1/healthy-kids-day/
END:VEVENT
BEGIN:VEVENT
DTSTART;TZID=UTC:20221202T070000
DTEND;TZID=UTC:20221202T090000
DTSTAMP:20260421T102051
CREATED:20220914T160038Z
LAST-MODIFIED:20230322T212644Z
UID:5758-1669964400-1669971600@ymcawhittier.org
SUMMARY:YMCA Prayer Breakfast
DESCRIPTION:Join us for the 43rd annual YMCA of Greater Whittier Virtual Christmas Prayer Breakfast \nEach year\, the YMCA of Greater Whittier brings people together to celebrate the season and share the joy of impacting the lives of our neighbors through our everyday work. This year’s event celebrates the “The Joy of Community”. We will ring in the season with festive music and meaningful stories to help your heart get ready for Christmas. \nWe have many ways for you to participate in this year’s event. All ticket sales and sponsorships are 100% tax deductible and go directly back to fund the YMCA’s efforts. \nTicket Purchase \nSingle and couple ticket purchase options are available. \nSingle tickets are $50 \n2 tickets are $100 \nSingle Ads are also available for purchase: 2” x 4” or Business Card. \nContact for purchase \nEvent Sponsorships \nEvent sponsorships are a great way to demonstrate your commitment to the work of the YMCA and get some great recognition during the program. \n2022 Sponsorship Options \nPlatinum Sponsor                                                                     $10\,000 \nFull page ad (8″x4″)\, logo and verbal recognition at breakfast\, unique signage at both branch locations\, and online acknowledgement of your support. One table. \nGold Sponsor                                                                           $5\,000 \nHalf page ad (4″x4″)\, logo and verbal recognition at breakfast\, combined signage at both branch locations\, and online acknowledgment of your support. One table. \nSilver Sponsor                                                                         $2\,500 \nQuarter page ad (2″x4″)\, logo and verbal recognition at breakfast\, combined signage at both branch locations\, and online acknowledgment of your support. One table. \nBronze Sponsor                                                                       $1\,000 \nQuarter page ad (2”x4″)\, logo recognition at breakfast\, combined signage at both branch locations\, and online acknowledgment of your support. One 10-person table. \nPurchase a Table                                                                      $500 \nOne table. \nEach table seats 10 people. All sponsors will receive recognition in our annual report. \nContact for purchase \nBe an event sponsor \nDo you have questions about the event? contact us via email at jaceves@ymcawhittier.org or by calling the Office of Financial Development at (562) 392-6487. You can also click here to view the registration packet.
URL:https://ymcawhittier.org/event-1/ymca-prayer-breakfast/
END:VEVENT
BEGIN:VEVENT
DTSTART;TZID=UTC:20201204T090000
DTEND;TZID=UTC:20201204T100000
DTSTAMP:20260421T102051
CREATED:20201118T161325Z
LAST-MODIFIED:20221004T160034Z
UID:5432-1607072400-1607076000@ymcawhittier.org
SUMMARY:43rd Annual Christmas Prayer Breakfast
DESCRIPTION:From the comfort of your own home!\nDec 02\, 2022 from 7:00am to 9:00am \nJoin us for the 43rd annual YMCA of Greater Whittier Virtual Christmas Prayer Breakfast\nEach year\, the YMCA of Greater Whittier brings people together to celebrate the season and share the joy of impacting the lives of our neighbors through our everyday work. This year’s event celebrates the “The Joy of Community”. \nAlthough this year’s event will be slightly different we are excited to bring you inside the YMCA from the comfort of your own home. We will ring in the season with festive music and meaningful stories to help your heart get ready for Christmas. \nWe have many ways for you to participate in this year’s event. All ticket sales and sponsorships are 100% tax deductible and go directly back to fund the YMCA’s COVID 19 relief efforts in Childcare and Food Distribution to hungry children. \nTicket Purchase\nSingle and couple ticket purchase options are available. \nSingle tickets are $45 \n2 tickets are $90 \nSingle Ads are also available for purchase. They are full-screen size and available for 15 seconds and 30 seconds spots. \nPurchase a ticket here \nPurchase an ad \nFellowship Rooms\nWe know how important being able to bring to guests to this event is each year and have some time to visit with each one around your table. This year you can offer that same experience by purchasing a fellowship room. You and your guests will be given a private virtual space to visit before the program begins and some time after the program ends to fellowship together and revel in the Christmas sprit together. \nYou may sponsor a fellowship room which accommodates 10 people for $400. \nSponsor a fellowship room \nEvent Sponsorships\nEvent sponsorships are a great way to demonstrate your commitment to the work of the YMCA and get some great recognition during the program. Event sponsors also receive a Fellowship Room to visit privately with their guests before and after the program. \n2020 Sponsorship Options \nBronze Sponsor $1\,000: Fellowship Room for 10 people; website recognition through November 2021; Full Screen of gratitude for 15 seconds during program and verbal recognition. \nSilver Sponsor $2\,500-$4\,999: Fellowship Room for 10 people; website recognition through November 2021; Full Screen of gratitude for 30 seconds during program and verbal recognition. \nGold Sponsor $5\,000-$9\,999: Fellowship Room for 10 people; website recognition through November 2021; Full Screen of gratitude for 45 seconds and verbal recognition\, 30 second video ad during program\, \nPlatinum Sponsor 10\,000+: Fellowship Room for 10 people; website recognition through November 2021; full-screen ad; verbal recognition with 60 second full screen of gratitude feature. \nBe an event sponsor \nDo you have questions about the event or prefer to make your purchase offline? Please contact us via email at funddevelopment@ymcawhittier.org or by calling the Office of Financial Development at 562.392-6354.
URL:https://ymcawhittier.org/event-1/5432/
ATTACH;FMTTYPE=image/jpeg:https://ymcawhittier.org/wp-content/uploads/sites/11/2020/11/YMCA-Christmas-Prayer-Breakfast-2020_Web-3-100.jpg
END:VEVENT
END:VCALENDAR